BEGIN:VCALENDAR
VERSION:2.0
PRODID:-//E-Control Systems - ECPv6.15.20//NONSGML v1.0//EN
CALSCALE:GREGORIAN
METHOD:PUBLISH
X-WR-CALNAME:E-Control Systems
X-ORIGINAL-URL:https://econtrolsystems.com
X-WR-CALDESC:Events for E-Control Systems
REFRESH-INTERVAL;VALUE=DURATION:PT1H
X-Robots-Tag:noindex
X-PUBLISHED-TTL:PT1H
BEGIN:VTIMEZONE
TZID:UTC
BEGIN:STANDARD
TZOFFSETFROM:+0000
TZOFFSETTO:+0000
TZNAME:UTC
DTSTART:20220101T000000
END:STANDARD
END:VTIMEZONE
BEGIN:VEVENT
DTSTART;TZID=UTC:20231210T080000
DTEND;TZID=UTC:20231210T170000
DTSTAMP:20260422T103701
CREATED:20231210T165622Z
LAST-MODIFIED:20240716T215834Z
UID:17081-1702195200-1702227600@econtrolsystems.com
SUMMARY:2019 ASHP Midyear Clinical Meeting and Exhibition
DESCRIPTION:2019 ASHP Midyear Clinical Meeting and Exhibition\nLas Vegas\, NV\nBooth #355\nMandalay Bay Convention Center
URL:https://econtrolsystems.com/events/2019-ashp-midyear-clinical-meeting-and-exhibition
CATEGORIES:Events
ATTACH;FMTTYPE=image/jpeg:https://econtrolsystems.com/wp-content/uploads/2023/12/ashp-show.jpg
END:VEVENT
END:VCALENDAR